BEGIN:VCALENDAR
VERSION:2.0
PRODID:-//Village Baptist Church - ECPv6.15.20//NONSGML v1.0//EN
CALSCALE:GREGORIAN
METHOD:PUBLISH
X-ORIGINAL-URL:https://www.villagebaptist.org.nz
X-WR-CALDESC:Events for Village Baptist Church
REFRESH-INTERVAL;VALUE=DURATION:PT1H
X-Robots-Tag:noindex
X-PUBLISHED-TTL:PT1H
BEGIN:VTIMEZONE
TZID:Pacific/Auckland
BEGIN:STANDARD
TZOFFSETFROM:+1300
TZOFFSETTO:+1200
TZNAME:NZST
DTSTART:20250405T140000
END:STANDARD
BEGIN:DAYLIGHT
TZOFFSETFROM:+1200
TZOFFSETTO:+1300
TZNAME:NZDT
DTSTART:20250927T140000
END:DAYLIGHT
BEGIN:STANDARD
TZOFFSETFROM:+1300
TZOFFSETTO:+1200
TZNAME:NZST
DTSTART:20260404T140000
END:STANDARD
BEGIN:DAYLIGHT
TZOFFSETFROM:+1200
TZOFFSETTO:+1300
TZNAME:NZDT
DTSTART:20260926T140000
END:DAYLIGHT
BEGIN:STANDARD
TZOFFSETFROM:+1300
TZOFFSETTO:+1200
TZNAME:NZST
DTSTART:20270403T140000
END:STANDARD
BEGIN:DAYLIGHT
TZOFFSETFROM:+1200
TZOFFSETTO:+1300
TZNAME:NZDT
DTSTART:20270925T140000
END:DAYLIGHT
END:VTIMEZONE
BEGIN:VEVENT
DTSTART;TZID=Pacific/Auckland:20260902T093000
DTEND;TZID=Pacific/Auckland:20260902T113000
DTSTAMP:20260425T150413
CREATED:20260122T024913Z
LAST-MODIFIED:20260122T205112Z
UID:10001369-1788341400-1788348600@www.villagebaptist.org.nz
SUMMARY:The Craft Room - Term Three
DESCRIPTION:The Craft Room is a connect group that meets in the church cafe. It’s open to all and provides a space where you can meet others while connecting over craft\, a morning tea\, and a simple devotional.
URL:https://www.villagebaptist.org.nz/event/the-craft-room-term-3/2026-09-02/
LOCATION:Village Baptist Church\, 147 Te Aute Road\, Havelock North\, Hawke's Bay\, 4130\, New Zealand
CATEGORIES:Connect Group
ATTACH;FMTTYPE=image/png:https://www.villagebaptist.org.nz/wp-content/uploads/2025/01/TheCraftRoom-16-9-01.png
END:VEVENT
BEGIN:VEVENT
DTSTART;TZID=Pacific/Auckland:20260906T100000
DTEND;TZID=Pacific/Auckland:20260906T113000
DTSTAMP:20260425T150413
CREATED:20260121T030643Z
LAST-MODIFIED:20260121T030647Z
UID:10001298-1788688800-1788694200@www.villagebaptist.org.nz
SUMMARY:WHAT’S NEXT?
DESCRIPTION:4 week series from Acts on The Early Church \n\n\n\nPuzzles don’t come with step-by-step instructions for solving them. That’s what makes them so much fun. You have to try to figure out the next best step to take. When Jesus left Earth\, his followers had to wonder the same thing —”What’s next?” In this 4-week series about the Early Church\, kids will see how Jesus’ followers solved the puzzle of what to do next and the ways we can follow in their footsteps. As kids discover what to do next\, they’ll learn they can follow Jesus\, pray for others\, love like Jesus did\, and share the good news. \n\n\n\nWEEK 1This week\, kids learn about how Saul became a follower of Jesus.BIG IDEA: We can follow Jesus.BIBLE: Acts 9:1–20; 1 Corinthians 15:1-9 \n\n\n\nWEEK 2This week\, kids learn about how Peter prayed for a woman to come back to life.BIG IDEA: We can pray for others.BIBLE: Acts 9:36–43; James 5:13–16 \n\n\n\nWEEK 3This week\, kids learn about how God spoke to Cornelius and Peter to show that everyone is welcome to follow Jesus.BIG IDEA: We can love like Jesus does.BIBLE: Acts 10:1–8; 11:1–18; John 13:34–35 \n\n\n\nWEEK 4This week\, kids learn about how Paul shared the good news and Lydia decided to follow Jesus.BIG IDEA: We can share the good news.BIBLE: Acts 16:6–15; Matthew 28:18–20
URL:https://www.villagebaptist.org.nz/event/whats-next/2026-09-06/
LOCATION:Village Baptist Church\, 147 Te Aute Road\, Havelock North\, Hawke's Bay\, 4130\, New Zealand
CATEGORIES:Kids Program
ATTACH;FMTTYPE=image/png:https://www.villagebaptist.org.nz/wp-content/uploads/2026/01/Whats-Next-image.png
END:VEVENT
BEGIN:VEVENT
DTSTART;TZID=Pacific/Auckland:20260906T100000
DTEND;TZID=Pacific/Auckland:20260906T113000
DTSTAMP:20260425T150413
CREATED:20260122T023347Z
LAST-MODIFIED:20260122T023352Z
UID:10001326-1788688800-1788694200@www.villagebaptist.org.nz
SUMMARY:David: Anointed and Flawed
DESCRIPTION:In the Old Testament\, David is a significant figure who was used by God in significant ways. Yet he was far from perfect\, and the bible doesn’t hide his flaws. In this series\, we’ll explore how the good and the bad in David’s story speaks to us\, and out journey of faith.
URL:https://www.villagebaptist.org.nz/event/david-anointed-and-flawed/2026-09-06/
LOCATION:Village Baptist Church\, 147 Te Aute Road\, Havelock North\, Hawke's Bay\, 4130\, New Zealand
CATEGORIES:Church Service
ATTACH;FMTTYPE=image/png:https://www.villagebaptist.org.nz/wp-content/uploads/2026/01/David-Series-Image-169-1.png
END:VEVENT
END:VCALENDAR