BEGIN:VCALENDAR
VERSION:2.0
PRODID:-//Village Baptist Church - ECPv6.15.20//NONSGML v1.0//EN
CALSCALE:GREGORIAN
METHOD:PUBLISH
X-WR-CALNAME:Village Baptist Church
X-ORIGINAL-URL:https://www.villagebaptist.org.nz
X-WR-CALDESC:Events for Village Baptist Church
REFRESH-INTERVAL;VALUE=DURATION:PT1H
X-Robots-Tag:noindex
X-PUBLISHED-TTL:PT1H
BEGIN:VTIMEZONE
TZID:Pacific/Auckland
BEGIN:STANDARD
TZOFFSETFROM:+1300
TZOFFSETTO:+1200
TZNAME:NZST
DTSTART:20250405T140000
END:STANDARD
BEGIN:DAYLIGHT
TZOFFSETFROM:+1200
TZOFFSETTO:+1300
TZNAME:NZDT
DTSTART:20250927T140000
END:DAYLIGHT
BEGIN:STANDARD
TZOFFSETFROM:+1300
TZOFFSETTO:+1200
TZNAME:NZST
DTSTART:20260404T140000
END:STANDARD
BEGIN:DAYLIGHT
TZOFFSETFROM:+1200
TZOFFSETTO:+1300
TZNAME:NZDT
DTSTART:20260926T140000
END:DAYLIGHT
BEGIN:STANDARD
TZOFFSETFROM:+1300
TZOFFSETTO:+1200
TZNAME:NZST
DTSTART:20270403T140000
END:STANDARD
BEGIN:DAYLIGHT
TZOFFSETFROM:+1200
TZOFFSETTO:+1300
TZNAME:NZDT
DTSTART:20270925T140000
END:DAYLIGHT
END:VTIMEZONE
BEGIN:VEVENT
DTSTART;TZID=Pacific/Auckland:20260617T093000
DTEND;TZID=Pacific/Auckland:20260617T113000
DTSTAMP:20260425T131305
CREATED:20260122T024533Z
LAST-MODIFIED:20260122T205111Z
UID:10001349-1781688600-1781695800@www.villagebaptist.org.nz
SUMMARY:The Craft Room - Term Two
DESCRIPTION:The Craft Room is a connect group that meets in the church cafe. It’s open to all and provides a space where you can meet others while connecting over craft\, a morning tea\, and a simple devotional.
URL:https://www.villagebaptist.org.nz/event/the-craft-room-term-2/2026-06-17/
LOCATION:Village Baptist Church\, 147 Te Aute Road\, Havelock North\, Hawke's Bay\, 4130\, New Zealand
CATEGORIES:Connect Group
ATTACH;FMTTYPE=image/png:https://www.villagebaptist.org.nz/wp-content/uploads/2025/01/TheCraftRoom-16-9-01.png
END:VEVENT
BEGIN:VEVENT
DTSTART;TZID=Pacific/Auckland:20260618T093000
DTEND;TZID=Pacific/Auckland:20260618T110000
DTSTAMP:20260425T131305
CREATED:20260317T003114Z
LAST-MODIFIED:20260317T003318Z
UID:10001473-1781775000-1781780400@www.villagebaptist.org.nz
SUMMARY:Alpha | Morning
DESCRIPTION:The Alpha course is a series of sessions exploring the Christian Faith. Each talk looks at a different question around faith and is designed to foster conversation. Alpha is run all around the globe\, and everyone is welcome. No two alphas look the same\, but they all have three things in common: a free morning tea\, a quality talk\, and plenty of good conversations. \n\n\n\nUnplug. Connect. Try Alpha. \n\n\n\nWhile ‘Alpha | Morning’ is FREE\, we do ask that you RSVP to the church office. You can email your registration to: office@villagebaptist.org.nz
URL:https://www.villagebaptist.org.nz/event/alpha-morning/2026-06-18/
LOCATION:Village Baptist Church\, 147 Te Aute Road\, Havelock North\, Hawke's Bay\, 4130\, New Zealand
CATEGORIES:Course
ATTACH;FMTTYPE=image/png:https://www.villagebaptist.org.nz/wp-content/uploads/2025/04/Alpha-Pull-Up-Banner-Presentation-1.png
END:VEVENT
BEGIN:VEVENT
DTSTART;TZID=Pacific/Auckland:20260618T183000
DTEND;TZID=Pacific/Auckland:20260618T213000
DTSTAMP:20260425T131305
CREATED:20251124T224502Z
LAST-MODIFIED:20251124T224619Z
UID:10001252-1781807400-1781818200@www.villagebaptist.org.nz
SUMMARY:Alpha | Evening
DESCRIPTION:The Alpha course is a series of sessions exploring the Christian Faith. Each talk looks at a different question around faith and is designed to foster conversation. Alpha is run all around the globe\, and everyone is welcome. No two alphas look the same\, but they all have three things in common: a free dinner\, a quality talk\, and plenty of good conversations. \n\n\n\nUnplug. Connect. Try Alpha. \n\n\n\nWhile ‘Alpha | Evening’ is FREE\, it is also a catered event\, so we do ask that you RSVP to the church office. You can email your registration to: office@villagebaptist.org.nz
URL:https://www.villagebaptist.org.nz/event/alpha-evening/2026-06-18/
LOCATION:Village Baptist Church\, 147 Te Aute Road\, Havelock North\, Hawke's Bay\, 4130\, New Zealand
CATEGORIES:Course
ATTACH;FMTTYPE=image/png:https://www.villagebaptist.org.nz/wp-content/uploads/2025/04/Alpha-Pull-Up-Banner-Presentation-1.png
END:VEVENT
BEGIN:VEVENT
DTSTART;TZID=Pacific/Auckland:20260621T100000
DTEND;TZID=Pacific/Auckland:20260621T113000
DTSTAMP:20260425T131305
CREATED:20260121T025155Z
LAST-MODIFIED:20260121T025158Z
UID:10001290-1782036000-1782041400@www.villagebaptist.org.nz
SUMMARY:WHIRIA KIDS – CHINA
DESCRIPTION:1.4 billion people live in China. That also means many people with illnesses\, isolation and disabilities may be overlooked and find it hard to find friends and community. The kids will hear of these people\, and spend time praying for them. They will also explore the scriptures of a time where Jesus responded to friends desires for healing and forgiveness by lowering their buddy through a roof.
URL:https://www.villagebaptist.org.nz/event/whiria-kids-china/
LOCATION:Village Baptist Church\, 147 Te Aute Road\, Havelock North\, Hawke's Bay\, 4130\, New Zealand
CATEGORIES:Kids Program
ATTACH;FMTTYPE=image/png:https://www.villagebaptist.org.nz/wp-content/uploads/2026/01/Whiria-kids.png
END:VEVENT
BEGIN:VEVENT
DTSTART;TZID=Pacific/Auckland:20260621T100000
DTEND;TZID=Pacific/Auckland:20260621T113000
DTSTAMP:20260425T131305
CREATED:20260122T011559Z
LAST-MODIFIED:20260122T011605Z
UID:10001318-1782036000-1782041400@www.villagebaptist.org.nz
SUMMARY:Ten Words
DESCRIPTION:In Genesis\, the bible describes God speaking creation into existence. In Exodus\, the Bible describes another creative act that resulted from God speaking: the establishment of his people at Mt Sinai. It is because of this connection between creation and the Ten Commandments that the earliest traditions didn’t call the Ten Commandments\, the Ten Commandments\, but instead\, the Ten Words.  \n\n\n\nIn this series\, we explore God’s Ten Words and how these ancient words speak to modern times.
URL:https://www.villagebaptist.org.nz/event/ten-words/2026-06-21/
LOCATION:Village Baptist Church\, 147 Te Aute Road\, Havelock North\, Hawke's Bay\, 4130\, New Zealand
CATEGORIES:Church Service
ATTACH;FMTTYPE=image/png:https://www.villagebaptist.org.nz/wp-content/uploads/2026/01/Ten-Words-Series-Image-169.png
END:VEVENT
END:VCALENDAR