BEGIN:VCALENDAR
VERSION:2.0
PRODID:-//Village Baptist Church - ECPv6.15.20//NONSGML v1.0//EN
CALSCALE:GREGORIAN
METHOD:PUBLISH
X-WR-CALNAME:Village Baptist Church
X-ORIGINAL-URL:https://www.villagebaptist.org.nz
X-WR-CALDESC:Events for Village Baptist Church
REFRESH-INTERVAL;VALUE=DURATION:PT1H
X-Robots-Tag:noindex
X-PUBLISHED-TTL:PT1H
BEGIN:VTIMEZONE
TZID:Pacific/Auckland
BEGIN:STANDARD
TZOFFSETFROM:+1300
TZOFFSETTO:+1200
TZNAME:NZST
DTSTART:20250405T140000
END:STANDARD
BEGIN:DAYLIGHT
TZOFFSETFROM:+1200
TZOFFSETTO:+1300
TZNAME:NZDT
DTSTART:20250927T140000
END:DAYLIGHT
BEGIN:STANDARD
TZOFFSETFROM:+1300
TZOFFSETTO:+1200
TZNAME:NZST
DTSTART:20260404T140000
END:STANDARD
BEGIN:DAYLIGHT
TZOFFSETFROM:+1200
TZOFFSETTO:+1300
TZNAME:NZDT
DTSTART:20260926T140000
END:DAYLIGHT
BEGIN:STANDARD
TZOFFSETFROM:+1300
TZOFFSETTO:+1200
TZNAME:NZST
DTSTART:20270403T140000
END:STANDARD
BEGIN:DAYLIGHT
TZOFFSETFROM:+1200
TZOFFSETTO:+1300
TZNAME:NZDT
DTSTART:20270925T140000
END:DAYLIGHT
END:VTIMEZONE
BEGIN:VEVENT
DTSTART;TZID=Pacific/Auckland:20260418T190000
DTEND;TZID=Pacific/Auckland:20260418T220000
DTSTAMP:20260425T060215
CREATED:20260123T012957Z
LAST-MODIFIED:20260123T013000Z
UID:10001427-1776538800-1776549600@www.villagebaptist.org.nz
SUMMARY:Inspire
DESCRIPTION:Do you have a project around the house you just can’t find the inspiration to complete? Are you struggling to find time to bring your inspiration to life? Then why not join us and connect with others over craft at our next Inspire evening?
URL:https://www.villagebaptist.org.nz/event/inspire/2026-04-18/
LOCATION:Village Baptist Church\, 147 Te Aute Road\, Havelock North\, Hawke's Bay\, 4130\, New Zealand
CATEGORIES:Connect Group
ATTACH;FMTTYPE=image/png:https://www.villagebaptist.org.nz/wp-content/uploads/2026/01/Untitled-design-5.png
END:VEVENT
BEGIN:VEVENT
DTSTART;TZID=Pacific/Auckland:20260419T100000
DTEND;TZID=Pacific/Auckland:20260419T113000
DTSTAMP:20260425T060215
CREATED:20260121T024306Z
LAST-MODIFIED:20260121T024311Z
UID:10001281-1776592800-1776598200@www.villagebaptist.org.nz
SUMMARY:UNSUNG HEROES
DESCRIPTION:4 week series from the Old Testament on Ruth \n\n\n\nSuperheroes aren’t heroic only when they feel like it — they’re brave each and every day. The best heroes can even inspire the people around them to be brave\, faithful\, and hopeful in their own lives\, too. In this 4-week series\, kids will learn more about what it looks like to see God as the hero of our story as they hear the story of Ruth and Naomi. They’ll see how God gives them companions\, opportunities\, boldness\, and hope so they can be heroes\, too! \n\n\n\nWEEK 1This week\, kids learn about how Ruth chose to follow Naomi back to her hometown.BIG IDEA: God gives us companions.BIBLE: Ruth 1; Mark 12:28–34 \n\n\n\nWEEK 2This week\, kids learn about how Ruth met and found favour with Boaz.BIG IDEA: God gives us opportunities.BIBLE: Ruth 2; Mark 12:38–44 \n\n\n\nWEEK 3This week\, kids learn how Ruth boldly asked Boaz for help.BIG IDEA: God gives us boldness.BIBLE: Ruth 3; Hebrews 10:19–25 \n\n\n\nWEEK 4This week\, kids learn how Ruth married Boaz and what was special about their family line.BIG IDEA: God gives us hope.BIBLE: Ruth 4; Revelation 1:4–8
URL:https://www.villagebaptist.org.nz/event/unsung-heroes/2026-04-19/
LOCATION:Village Baptist Church\, 147 Te Aute Road\, Havelock North\, Hawke's Bay\, 4130\, New Zealand
CATEGORIES:Kids Program
ATTACH;FMTTYPE=image/png:https://www.villagebaptist.org.nz/wp-content/uploads/2026/01/Unsung-Heroes-image.png
END:VEVENT
BEGIN:VEVENT
DTSTART;TZID=Pacific/Auckland:20260419T100000
DTEND;TZID=Pacific/Auckland:20260419T113000
DTSTAMP:20260425T060215
CREATED:20260122T011559Z
LAST-MODIFIED:20260122T011605Z
UID:10001310-1776592800-1776598200@www.villagebaptist.org.nz
SUMMARY:Ten Words
DESCRIPTION:In Genesis\, the bible describes God speaking creation into existence. In Exodus\, the Bible describes another creative act that resulted from God speaking: the establishment of his people at Mt Sinai. It is because of this connection between creation and the Ten Commandments that the earliest traditions didn’t call the Ten Commandments\, the Ten Commandments\, but instead\, the Ten Words.  \n\n\n\nIn this series\, we explore God’s Ten Words and how these ancient words speak to modern times.
URL:https://www.villagebaptist.org.nz/event/ten-words/2026-04-19/
LOCATION:Village Baptist Church\, 147 Te Aute Road\, Havelock North\, Hawke's Bay\, 4130\, New Zealand
CATEGORIES:Church Service
ATTACH;FMTTYPE=image/png:https://www.villagebaptist.org.nz/wp-content/uploads/2026/01/Ten-Words-Series-Image-169.png
END:VEVENT
END:VCALENDAR