BEGIN:VCALENDAR
VERSION:2.0
PRODID:-//Village Baptist Church - ECPv6.15.20//NONSGML v1.0//EN
CALSCALE:GREGORIAN
METHOD:PUBLISH
X-ORIGINAL-URL:https://www.villagebaptist.org.nz
X-WR-CALDESC:Events for Village Baptist Church
REFRESH-INTERVAL;VALUE=DURATION:PT1H
X-Robots-Tag:noindex
X-PUBLISHED-TTL:PT1H
BEGIN:VTIMEZONE
TZID:Pacific/Auckland
BEGIN:STANDARD
TZOFFSETFROM:+1300
TZOFFSETTO:+1200
TZNAME:NZST
DTSTART:20250405T140000
END:STANDARD
BEGIN:DAYLIGHT
TZOFFSETFROM:+1200
TZOFFSETTO:+1300
TZNAME:NZDT
DTSTART:20250927T140000
END:DAYLIGHT
BEGIN:STANDARD
TZOFFSETFROM:+1300
TZOFFSETTO:+1200
TZNAME:NZST
DTSTART:20260404T140000
END:STANDARD
BEGIN:DAYLIGHT
TZOFFSETFROM:+1200
TZOFFSETTO:+1300
TZNAME:NZDT
DTSTART:20260926T140000
END:DAYLIGHT
BEGIN:STANDARD
TZOFFSETFROM:+1300
TZOFFSETTO:+1200
TZNAME:NZST
DTSTART:20270403T140000
END:STANDARD
BEGIN:DAYLIGHT
TZOFFSETFROM:+1200
TZOFFSETTO:+1300
TZNAME:NZDT
DTSTART:20270925T140000
END:DAYLIGHT
END:VTIMEZONE
BEGIN:VEVENT
DTSTART;TZID=Pacific/Auckland:20260702T183000
DTEND;TZID=Pacific/Auckland:20260702T213000
DTSTAMP:20260423T204540
CREATED:20251124T224502Z
LAST-MODIFIED:20251124T224619Z
UID:10001254-1783017000-1783027800@www.villagebaptist.org.nz
SUMMARY:Alpha | Evening
DESCRIPTION:The Alpha course is a series of sessions exploring the Christian Faith. Each talk looks at a different question around faith and is designed to foster conversation. Alpha is run all around the globe\, and everyone is welcome. No two alphas look the same\, but they all have three things in common: a free dinner\, a quality talk\, and plenty of good conversations. \n\n\n\nUnplug. Connect. Try Alpha. \n\n\n\nWhile ‘Alpha | Evening’ is FREE\, it is also a catered event\, so we do ask that you RSVP to the church office. You can email your registration to: office@villagebaptist.org.nz
URL:https://www.villagebaptist.org.nz/event/alpha-evening/2026-07-02/
LOCATION:Village Baptist Church\, 147 Te Aute Road\, Havelock North\, Hawke's Bay\, 4130\, New Zealand
CATEGORIES:Course
ATTACH;FMTTYPE=image/png:https://www.villagebaptist.org.nz/wp-content/uploads/2025/04/Alpha-Pull-Up-Banner-Presentation-1.png
END:VEVENT
END:VCALENDAR