BEGIN:VCALENDAR
VERSION:2.0
PRODID:-//Village Baptist Church - ECPv6.15.20//NONSGML v1.0//EN
CALSCALE:GREGORIAN
METHOD:PUBLISH
X-WR-CALNAME:Village Baptist Church
X-ORIGINAL-URL:https://www.villagebaptist.org.nz
X-WR-CALDESC:Events for Village Baptist Church
REFRESH-INTERVAL;VALUE=DURATION:PT1H
X-Robots-Tag:noindex
X-PUBLISHED-TTL:PT1H
BEGIN:VTIMEZONE
TZID:Pacific/Auckland
BEGIN:STANDARD
TZOFFSETFROM:+1300
TZOFFSETTO:+1200
TZNAME:NZST
DTSTART:20250405T140000
END:STANDARD
BEGIN:DAYLIGHT
TZOFFSETFROM:+1200
TZOFFSETTO:+1300
TZNAME:NZDT
DTSTART:20250927T140000
END:DAYLIGHT
BEGIN:STANDARD
TZOFFSETFROM:+1300
TZOFFSETTO:+1200
TZNAME:NZST
DTSTART:20260404T140000
END:STANDARD
BEGIN:DAYLIGHT
TZOFFSETFROM:+1200
TZOFFSETTO:+1300
TZNAME:NZDT
DTSTART:20260926T140000
END:DAYLIGHT
BEGIN:STANDARD
TZOFFSETFROM:+1300
TZOFFSETTO:+1200
TZNAME:NZST
DTSTART:20270403T140000
END:STANDARD
BEGIN:DAYLIGHT
TZOFFSETFROM:+1200
TZOFFSETTO:+1300
TZNAME:NZDT
DTSTART:20270925T140000
END:DAYLIGHT
END:VTIMEZONE
BEGIN:VEVENT
DTSTART;TZID=Pacific/Auckland:20260522T190000
DTEND;TZID=Pacific/Auckland:20260522T210000
DTSTAMP:20260424T045514
CREATED:20260122T215715Z
LAST-MODIFIED:20260122T215719Z
UID:10001413-1779476400-1779483600@www.villagebaptist.org.nz
SUMMARY:Love Without Limits - Relationship Workshop
DESCRIPTION:This interactive workshop is for any couple who wants to transform their relationship. Whether you want to take a good relationship and make it truly great\, or if you are close to the brink and walking on eggshells\, this is for you. Tickets include light refreshments\, Saturday Lunch\, and a $25 Love Without Limits book. Should a couple wish to share a book\, they can purchase a secondary ticket at a lower price of just $15. \n\n\n\nThis workshop runs across two days\, Friday evening (7pm-9pm) and all day Saturday (10am-4pm)\, on the 5th and 6th of September.
URL:https://www.villagebaptist.org.nz/event/love-without-limits-relationship-workshop/2026-05-22/
LOCATION:Village Baptist Church\, 147 Te Aute Road\, Havelock North\, Hawke's Bay\, 4130\, New Zealand
CATEGORIES:Course
ATTACH;FMTTYPE=image/png:https://www.villagebaptist.org.nz/wp-content/uploads/2025/07/Love-without-Limits-Slide.png
END:VEVENT
BEGIN:VEVENT
DTSTART;TZID=Pacific/Auckland:20260523T100000
DTEND;TZID=Pacific/Auckland:20260523T160000
DTSTAMP:20260424T045514
CREATED:20260122T215715Z
LAST-MODIFIED:20260122T215719Z
UID:10001414-1779530400-1779552000@www.villagebaptist.org.nz
SUMMARY:Love Without Limits - Relationship Workshop
DESCRIPTION:This interactive workshop is for any couple who wants to transform their relationship. Whether you want to take a good relationship and make it truly great\, or if you are close to the brink and walking on eggshells\, this is for you. Tickets include light refreshments\, Saturday Lunch\, and a $25 Love Without Limits book. Should a couple wish to share a book\, they can purchase a secondary ticket at a lower price of just $15. \n\n\n\nThis workshop runs across two days\, Friday evening (7pm-9pm) and all day Saturday (10am-4pm)\, on the 5th and 6th of September.
URL:https://www.villagebaptist.org.nz/event/love-without-limits-relationship-workshop/2026-05-23/
LOCATION:Village Baptist Church\, 147 Te Aute Road\, Havelock North\, Hawke's Bay\, 4130\, New Zealand
CATEGORIES:Course
ATTACH;FMTTYPE=image/png:https://www.villagebaptist.org.nz/wp-content/uploads/2025/07/Love-without-Limits-Slide.png
END:VEVENT
END:VCALENDAR