BEGIN:VCALENDAR
VERSION:2.0
PRODID:-//Village Baptist Church - ECPv6.15.20//NONSGML v1.0//EN
CALSCALE:GREGORIAN
METHOD:PUBLISH
X-WR-CALNAME:Village Baptist Church
X-ORIGINAL-URL:https://www.villagebaptist.org.nz
X-WR-CALDESC:Events for Village Baptist Church
REFRESH-INTERVAL;VALUE=DURATION:PT1H
X-Robots-Tag:noindex
X-PUBLISHED-TTL:PT1H
BEGIN:VTIMEZONE
TZID:Pacific/Auckland
BEGIN:STANDARD
TZOFFSETFROM:+1300
TZOFFSETTO:+1200
TZNAME:NZST
DTSTART:20250405T140000
END:STANDARD
BEGIN:DAYLIGHT
TZOFFSETFROM:+1200
TZOFFSETTO:+1300
TZNAME:NZDT
DTSTART:20250927T140000
END:DAYLIGHT
BEGIN:STANDARD
TZOFFSETFROM:+1300
TZOFFSETTO:+1200
TZNAME:NZST
DTSTART:20260404T140000
END:STANDARD
BEGIN:DAYLIGHT
TZOFFSETFROM:+1200
TZOFFSETTO:+1300
TZNAME:NZDT
DTSTART:20260926T140000
END:DAYLIGHT
BEGIN:STANDARD
TZOFFSETFROM:+1300
TZOFFSETTO:+1200
TZNAME:NZST
DTSTART:20270403T140000
END:STANDARD
BEGIN:DAYLIGHT
TZOFFSETFROM:+1200
TZOFFSETTO:+1300
TZNAME:NZDT
DTSTART:20270925T140000
END:DAYLIGHT
END:VTIMEZONE
BEGIN:VEVENT
DTSTART;TZID=Pacific/Auckland:20260920T100000
DTEND;TZID=Pacific/Auckland:20260920T113000
DTSTAMP:20260423T203231
CREATED:20260121T031237Z
LAST-MODIFIED:20260121T031242Z
UID:10001300-1789898400-1789903800@www.villagebaptist.org.nz
SUMMARY:FIRED UP
DESCRIPTION:5 week series from 1 Kings on Elijah \n\n\n\nFire up the ovens! We’re headed to the kitchen to bake up something special. Kitchens are incredible places where the most basic ingredients are transformed into delicious treats. Our faith can be a lot like that\, too. In this 5-week series\, kids will follow the life of the prophet Elijah\, whose ministry involved a lot of fire and bread as he formed a special relationship with God. They’ll learn how knowing God helps me find what I need\, hears my voice\, guides me when I’m scared\, comforts me\, and is always with me are all the ingredients they need to get fired up! \n\n\n\nWEEK 1This week\, kids hear how God provided for Elijah and a widow during a drought.BIG IDEA: God helps me find what I need.BIBLE: 1 Kings 17:2–16; Psalm 97:1–6 \n\n\n\nWEEK 2This week\, kids hear how Elijah challenged the prophets of Baal and proved God is the real god.BIG IDEA: God hears my voice.BIBLE: 1 Kings 18:16–39; Acts 2:1–21 \n\n\n\nWEEK 3This week\, kids hear how Elijah ran away from Queen Jezebel and how God kept Elijah safe.BIG IDEA: God guides me when I’m scared.BIBLE: 1 Kings 19:1–9a; Psalm 85:8–13 \n\n\n\nWEEK 4This week\, kids hear how God appeared to Elijah to comfort him.BIG IDEA: God comforts me.BIBLE: 1 Kings 19:9b–18; 2 Corinthians 1:3–7 \n\n\n\nWEEK 5This week\, kids hear how God took Elijah up to heaven and how Elisha became God’s messenger.BIG IDEA: God is always with me.BIBLE: 2 Kings 2:1–14; John 6:25–35
URL:https://www.villagebaptist.org.nz/event/fired-up/2026-09-20/
LOCATION:Village Baptist Church\, 147 Te Aute Road\, Havelock North\, Hawke's Bay\, 4130\, New Zealand
CATEGORIES:Kids Program
ATTACH;FMTTYPE=image/png:https://www.villagebaptist.org.nz/wp-content/uploads/2026/01/Fired-Up-image.png
END:VEVENT
BEGIN:VEVENT
DTSTART;TZID=Pacific/Auckland:20260927T100000
DTEND;TZID=Pacific/Auckland:20260927T113000
DTSTAMP:20260423T203231
CREATED:20260121T031237Z
LAST-MODIFIED:20260121T031242Z
UID:10001301-1790503200-1790508600@www.villagebaptist.org.nz
SUMMARY:FIRED UP
DESCRIPTION:5 week series from 1 Kings on Elijah \n\n\n\nFire up the ovens! We’re headed to the kitchen to bake up something special. Kitchens are incredible places where the most basic ingredients are transformed into delicious treats. Our faith can be a lot like that\, too. In this 5-week series\, kids will follow the life of the prophet Elijah\, whose ministry involved a lot of fire and bread as he formed a special relationship with God. They’ll learn how knowing God helps me find what I need\, hears my voice\, guides me when I’m scared\, comforts me\, and is always with me are all the ingredients they need to get fired up! \n\n\n\nWEEK 1This week\, kids hear how God provided for Elijah and a widow during a drought.BIG IDEA: God helps me find what I need.BIBLE: 1 Kings 17:2–16; Psalm 97:1–6 \n\n\n\nWEEK 2This week\, kids hear how Elijah challenged the prophets of Baal and proved God is the real god.BIG IDEA: God hears my voice.BIBLE: 1 Kings 18:16–39; Acts 2:1–21 \n\n\n\nWEEK 3This week\, kids hear how Elijah ran away from Queen Jezebel and how God kept Elijah safe.BIG IDEA: God guides me when I’m scared.BIBLE: 1 Kings 19:1–9a; Psalm 85:8–13 \n\n\n\nWEEK 4This week\, kids hear how God appeared to Elijah to comfort him.BIG IDEA: God comforts me.BIBLE: 1 Kings 19:9b–18; 2 Corinthians 1:3–7 \n\n\n\nWEEK 5This week\, kids hear how God took Elijah up to heaven and how Elisha became God’s messenger.BIG IDEA: God is always with me.BIBLE: 2 Kings 2:1–14; John 6:25–35
URL:https://www.villagebaptist.org.nz/event/fired-up/2026-09-27/
LOCATION:Village Baptist Church\, 147 Te Aute Road\, Havelock North\, Hawke's Bay\, 4130\, New Zealand
CATEGORIES:Kids Program
ATTACH;FMTTYPE=image/png:https://www.villagebaptist.org.nz/wp-content/uploads/2026/01/Fired-Up-image.png
END:VEVENT
BEGIN:VEVENT
DTSTART;TZID=Pacific/Auckland:20261004T100000
DTEND;TZID=Pacific/Auckland:20261004T113000
DTSTAMP:20260423T203231
CREATED:20260121T031237Z
LAST-MODIFIED:20260121T031242Z
UID:10001302-1791108000-1791113400@www.villagebaptist.org.nz
SUMMARY:FIRED UP
DESCRIPTION:5 week series from 1 Kings on Elijah \n\n\n\nFire up the ovens! We’re headed to the kitchen to bake up something special. Kitchens are incredible places where the most basic ingredients are transformed into delicious treats. Our faith can be a lot like that\, too. In this 5-week series\, kids will follow the life of the prophet Elijah\, whose ministry involved a lot of fire and bread as he formed a special relationship with God. They’ll learn how knowing God helps me find what I need\, hears my voice\, guides me when I’m scared\, comforts me\, and is always with me are all the ingredients they need to get fired up! \n\n\n\nWEEK 1This week\, kids hear how God provided for Elijah and a widow during a drought.BIG IDEA: God helps me find what I need.BIBLE: 1 Kings 17:2–16; Psalm 97:1–6 \n\n\n\nWEEK 2This week\, kids hear how Elijah challenged the prophets of Baal and proved God is the real god.BIG IDEA: God hears my voice.BIBLE: 1 Kings 18:16–39; Acts 2:1–21 \n\n\n\nWEEK 3This week\, kids hear how Elijah ran away from Queen Jezebel and how God kept Elijah safe.BIG IDEA: God guides me when I’m scared.BIBLE: 1 Kings 19:1–9a; Psalm 85:8–13 \n\n\n\nWEEK 4This week\, kids hear how God appeared to Elijah to comfort him.BIG IDEA: God comforts me.BIBLE: 1 Kings 19:9b–18; 2 Corinthians 1:3–7 \n\n\n\nWEEK 5This week\, kids hear how God took Elijah up to heaven and how Elisha became God’s messenger.BIG IDEA: God is always with me.BIBLE: 2 Kings 2:1–14; John 6:25–35
URL:https://www.villagebaptist.org.nz/event/fired-up/2026-10-04/
LOCATION:Village Baptist Church\, 147 Te Aute Road\, Havelock North\, Hawke's Bay\, 4130\, New Zealand
CATEGORIES:Kids Program
ATTACH;FMTTYPE=image/png:https://www.villagebaptist.org.nz/wp-content/uploads/2026/01/Fired-Up-image.png
END:VEVENT
BEGIN:VEVENT
DTSTART;TZID=Pacific/Auckland:20261011T100000
DTEND;TZID=Pacific/Auckland:20261011T113000
DTSTAMP:20260423T203231
CREATED:20260121T031237Z
LAST-MODIFIED:20260121T031242Z
UID:10001303-1791712800-1791718200@www.villagebaptist.org.nz
SUMMARY:FIRED UP
DESCRIPTION:5 week series from 1 Kings on Elijah \n\n\n\nFire up the ovens! We’re headed to the kitchen to bake up something special. Kitchens are incredible places where the most basic ingredients are transformed into delicious treats. Our faith can be a lot like that\, too. In this 5-week series\, kids will follow the life of the prophet Elijah\, whose ministry involved a lot of fire and bread as he formed a special relationship with God. They’ll learn how knowing God helps me find what I need\, hears my voice\, guides me when I’m scared\, comforts me\, and is always with me are all the ingredients they need to get fired up! \n\n\n\nWEEK 1This week\, kids hear how God provided for Elijah and a widow during a drought.BIG IDEA: God helps me find what I need.BIBLE: 1 Kings 17:2–16; Psalm 97:1–6 \n\n\n\nWEEK 2This week\, kids hear how Elijah challenged the prophets of Baal and proved God is the real god.BIG IDEA: God hears my voice.BIBLE: 1 Kings 18:16–39; Acts 2:1–21 \n\n\n\nWEEK 3This week\, kids hear how Elijah ran away from Queen Jezebel and how God kept Elijah safe.BIG IDEA: God guides me when I’m scared.BIBLE: 1 Kings 19:1–9a; Psalm 85:8–13 \n\n\n\nWEEK 4This week\, kids hear how God appeared to Elijah to comfort him.BIG IDEA: God comforts me.BIBLE: 1 Kings 19:9b–18; 2 Corinthians 1:3–7 \n\n\n\nWEEK 5This week\, kids hear how God took Elijah up to heaven and how Elisha became God’s messenger.BIG IDEA: God is always with me.BIBLE: 2 Kings 2:1–14; John 6:25–35
URL:https://www.villagebaptist.org.nz/event/fired-up/2026-10-11/
LOCATION:Village Baptist Church\, 147 Te Aute Road\, Havelock North\, Hawke's Bay\, 4130\, New Zealand
CATEGORIES:Kids Program
ATTACH;FMTTYPE=image/png:https://www.villagebaptist.org.nz/wp-content/uploads/2026/01/Fired-Up-image.png
END:VEVENT
BEGIN:VEVENT
DTSTART;TZID=Pacific/Auckland:20261018T100000
DTEND;TZID=Pacific/Auckland:20261018T113000
DTSTAMP:20260423T203231
CREATED:20260121T031237Z
LAST-MODIFIED:20260121T031242Z
UID:10001304-1792317600-1792323000@www.villagebaptist.org.nz
SUMMARY:FIRED UP
DESCRIPTION:5 week series from 1 Kings on Elijah \n\n\n\nFire up the ovens! We’re headed to the kitchen to bake up something special. Kitchens are incredible places where the most basic ingredients are transformed into delicious treats. Our faith can be a lot like that\, too. In this 5-week series\, kids will follow the life of the prophet Elijah\, whose ministry involved a lot of fire and bread as he formed a special relationship with God. They’ll learn how knowing God helps me find what I need\, hears my voice\, guides me when I’m scared\, comforts me\, and is always with me are all the ingredients they need to get fired up! \n\n\n\nWEEK 1This week\, kids hear how God provided for Elijah and a widow during a drought.BIG IDEA: God helps me find what I need.BIBLE: 1 Kings 17:2–16; Psalm 97:1–6 \n\n\n\nWEEK 2This week\, kids hear how Elijah challenged the prophets of Baal and proved God is the real god.BIG IDEA: God hears my voice.BIBLE: 1 Kings 18:16–39; Acts 2:1–21 \n\n\n\nWEEK 3This week\, kids hear how Elijah ran away from Queen Jezebel and how God kept Elijah safe.BIG IDEA: God guides me when I’m scared.BIBLE: 1 Kings 19:1–9a; Psalm 85:8–13 \n\n\n\nWEEK 4This week\, kids hear how God appeared to Elijah to comfort him.BIG IDEA: God comforts me.BIBLE: 1 Kings 19:9b–18; 2 Corinthians 1:3–7 \n\n\n\nWEEK 5This week\, kids hear how God took Elijah up to heaven and how Elisha became God’s messenger.BIG IDEA: God is always with me.BIBLE: 2 Kings 2:1–14; John 6:25–35
URL:https://www.villagebaptist.org.nz/event/fired-up/2026-10-18/
LOCATION:Village Baptist Church\, 147 Te Aute Road\, Havelock North\, Hawke's Bay\, 4130\, New Zealand
CATEGORIES:Kids Program
ATTACH;FMTTYPE=image/png:https://www.villagebaptist.org.nz/wp-content/uploads/2026/01/Fired-Up-image.png
END:VEVENT
END:VCALENDAR