BEGIN:VCALENDAR
VERSION:2.0
PRODID:-//Village Baptist Church - ECPv6.15.20//NONSGML v1.0//EN
CALSCALE:GREGORIAN
METHOD:PUBLISH
X-WR-CALNAME:Village Baptist Church
X-ORIGINAL-URL:https://www.villagebaptist.org.nz
X-WR-CALDESC:Events for Village Baptist Church
REFRESH-INTERVAL;VALUE=DURATION:PT1H
X-Robots-Tag:noindex
X-PUBLISHED-TTL:PT1H
BEGIN:VTIMEZONE
TZID:Pacific/Auckland
BEGIN:STANDARD
TZOFFSETFROM:+1300
TZOFFSETTO:+1200
TZNAME:NZST
DTSTART:20250405T140000
END:STANDARD
BEGIN:DAYLIGHT
TZOFFSETFROM:+1200
TZOFFSETTO:+1300
TZNAME:NZDT
DTSTART:20250927T140000
END:DAYLIGHT
BEGIN:STANDARD
TZOFFSETFROM:+1300
TZOFFSETTO:+1200
TZNAME:NZST
DTSTART:20260404T140000
END:STANDARD
BEGIN:DAYLIGHT
TZOFFSETFROM:+1200
TZOFFSETTO:+1300
TZNAME:NZDT
DTSTART:20260926T140000
END:DAYLIGHT
BEGIN:STANDARD
TZOFFSETFROM:+1300
TZOFFSETTO:+1200
TZNAME:NZST
DTSTART:20270403T140000
END:STANDARD
BEGIN:DAYLIGHT
TZOFFSETFROM:+1200
TZOFFSETTO:+1300
TZNAME:NZDT
DTSTART:20270925T140000
END:DAYLIGHT
END:VTIMEZONE
BEGIN:VEVENT
DTSTART;TZID=Pacific/Auckland:20260403T120000
DTEND;TZID=Pacific/Auckland:20260406T120000
DTSTAMP:20260426T000407
CREATED:20260122T211110Z
LAST-MODIFIED:20260122T211113Z
UID:10001403-1775217600-1775476800@www.villagebaptist.org.nz
SUMMARY:E-Camp
DESCRIPTION:An action-packed camp held over Easter Weekend at the stunning grounds at Finlay Park on Lake Karapiro. Open to all youth year 7-9 at school. \n\n\n\nWith a mix of thrilling adventure activities\, great food\, epic games\, inspiring worship & speakers\, eCamp is designed to introduce young people to Jesus and invite them deeper into their faith. \n\n\n\nWe’re preparing for a weekend full of fun\, excitement\, and life-changing moments.Don’t miss out on this unforgettable experience!
URL:https://www.villagebaptist.org.nz/event/e-camp/
LOCATION:Finlay Park Adventure Camp\, 2/117 Finlay Road\, Maungatautari\, 3494\, New Zealand
CATEGORIES:Camp,Youth Event
ATTACH;FMTTYPE=image/png:https://www.villagebaptist.org.nz/wp-content/uploads/2026/01/Untitled-design-4.png
END:VEVENT
BEGIN:VEVENT
DTSTART;TZID=Pacific/Auckland:20260403T090000
DTEND;TZID=Pacific/Auckland:20260403T100000
DTSTAMP:20260426T000407
CREATED:20260330T222530Z
LAST-MODIFIED:20260330T223030Z
UID:10001476-1775206800-1775210400@www.villagebaptist.org.nz
SUMMARY:Good Friday
DESCRIPTION:Easter weekend can be overwhelming\, and in the midst of all the plans\, eggs\, and hot cross buns\, the meaning can get lost. \n\n\n\nSo\, join us for a Good Friday service\, and keep the meaning of the weekend front and centre as you enter into it. \n\n\n\n———- \n\n\n\nPlease note: There is no Children’s Ministry program for our Good Friday Service. \n\n\n\n\nClick here for our Easter Sunday Service
URL:https://www.villagebaptist.org.nz/event/good-friday/
LOCATION:Village Baptist Church\, 147 Te Aute Road\, Havelock North\, Hawke's Bay\, 4130\, New Zealand
CATEGORIES:Church Service
ATTACH;FMTTYPE=image/png:https://www.villagebaptist.org.nz/wp-content/uploads/2026/03/2.png
END:VEVENT
BEGIN:VEVENT
DTSTART;TZID=Pacific/Auckland:20260402T170000
DTEND;TZID=Pacific/Auckland:20260406T133000
DTSTAMP:20260426T000408
CREATED:20260122T205854Z
LAST-MODIFIED:20260128T003926Z
UID:10001402-1775149200-1775482200@www.villagebaptist.org.nz
SUMMARY:Easter Camp
DESCRIPTION:Central Easter Camp is a place where young people from across the Central region gather to encounter God\, build meaningful friendships\, and grow in their faith. Whether you’re a youth pastor\, leader\, volunteer\, or teenager looking for a life-changing Easter weekend\, this camp is for you. \n\n\n\n​Central Easter Camp exists to serve youth ministries in the Lower North Island through telling the Easter story and providing spaces to evangelize\, disciple and build Jesus-centered communities. 
URL:https://www.villagebaptist.org.nz/event/easter-camp/
LOCATION:El Rancho\, 58 Weggery Drive\, Waikanae Beach\, 5036
CATEGORIES:Camp,Youth Event
ATTACH;FMTTYPE=image/png:https://www.villagebaptist.org.nz/wp-content/uploads/2026/01/Untitled-design-3.png
END:VEVENT
BEGIN:VEVENT
DTSTART;TZID=Pacific/Auckland:20260401T093000
DTEND;TZID=Pacific/Auckland:20260401T113000
DTSTAMP:20260426T000408
CREATED:20260122T024152Z
LAST-MODIFIED:20260122T205110Z
UID:10001340-1775035800-1775043000@www.villagebaptist.org.nz
SUMMARY:The Craft Room - Term One
DESCRIPTION:The Craft Room is a connect group that meets in the church cafe. It’s open to all and provides a space where you can meet others while connecting over craft\, a morning tea\, and a simple devotional.
URL:https://www.villagebaptist.org.nz/event/the-craft-room-term-1/2026-04-01/
LOCATION:Village Baptist Church\, 147 Te Aute Road\, Havelock North\, Hawke's Bay\, 4130\, New Zealand
CATEGORIES:Connect Group
ATTACH;FMTTYPE=image/png:https://www.villagebaptist.org.nz/wp-content/uploads/2025/01/TheCraftRoom-16-9-01.png
END:VEVENT
BEGIN:VEVENT
DTSTART;TZID=Pacific/Auckland:20260331T083000
DTEND;TZID=Pacific/Auckland:20260331T090000
DTSTAMP:20260426T000408
CREATED:20260122T204734Z
LAST-MODIFIED:20260122T204900Z
UID:10001401-1774945800-1774947600@www.villagebaptist.org.nz
SUMMARY:10up Tuesday - Term One
DESCRIPTION:Our Year 10-13 students gather on Tuesday nights to hang out\, grow together\, and explore the world of God. Each week\, we hang out\, play some games\, and study a particular passage\, finishing the night off in prayer.
URL:https://www.villagebaptist.org.nz/event/10up-tuesday/2026-03-31/
LOCATION:Village Baptist Church\, 147 Te Aute Road\, Havelock North\, Hawke's Bay\, 4130\, New Zealand
CATEGORIES:Youth Event
ATTACH;FMTTYPE=image/png:https://www.villagebaptist.org.nz/wp-content/uploads/2026/01/1.png
END:VEVENT
BEGIN:VEVENT
DTSTART;TZID=Pacific/Auckland:20260329T100000
DTEND;TZID=Pacific/Auckland:20260329T113000
DTSTAMP:20260426T000408
CREATED:20260122T211834Z
LAST-MODIFIED:20260122T211922Z
UID:10001412-1774778400-1774783800@www.villagebaptist.org.nz
SUMMARY:7UP Sunday - Term One
DESCRIPTION:7up Sunday is a space for our young people to grow in their faith\, be curious and ask questions\, and make lasting friendships. We use a curriculum that gives a Christian perspective on current issues they face\, such as: What does God have to say about friendships? Family life? Money? And School?
URL:https://www.villagebaptist.org.nz/event/7up-sunday/2026-03-29/
LOCATION:Village Baptist Church\, 147 Te Aute Road\, Havelock North\, Hawke's Bay\, 4130\, New Zealand
CATEGORIES:Youth Event
ATTACH;FMTTYPE=image/png:https://www.villagebaptist.org.nz/wp-content/uploads/2026/01/2.png
END:VEVENT
BEGIN:VEVENT
DTSTART;TZID=Pacific/Auckland:20260329T100000
DTEND;TZID=Pacific/Auckland:20260329T113000
DTSTAMP:20260426T000408
CREATED:20260121T023037Z
LAST-MODIFIED:20260121T023139Z
UID:10001278-1774778400-1774783800@www.villagebaptist.org.nz
SUMMARY:PALM SUNDAY
DESCRIPTION:This week\, the kids will begin by hearing of how Jesus entered Jerusalem to praise\, then explore other events leading up to the death of Jesus. These include tipping some tables over in the temple\, washing the disciples feet\, the Last Supper and praying in the Garden of Gethsemane. Through scripture\, practical activities and discussion\, the kids will learn the importance of the Holy Week\, how it reflects who Jesus is and prepare their hearts for Easter.
URL:https://www.villagebaptist.org.nz/event/palm-sunday/
LOCATION:Village Baptist Church\, 147 Te Aute Road\, Havelock North\, Hawke's Bay\, 4130\, New Zealand
CATEGORIES:Kids Program
ATTACH;FMTTYPE=image/png:https://www.villagebaptist.org.nz/wp-content/uploads/2026/01/Palm-Sunday-Kids.png
END:VEVENT
BEGIN:VEVENT
DTSTART;TZID=Pacific/Auckland:20260327T100000
DTEND;TZID=Pacific/Auckland:20260327T110000
DTSTAMP:20260426T000408
CREATED:20260121T020630Z
LAST-MODIFIED:20260122T025215Z
UID:10001269-1774605600-1774609200@www.villagebaptist.org.nz
SUMMARY:Mainly Music - Term One
DESCRIPTION:Mainly Music is a music group for preschoolers and their parents or guardians. It’s a space where you and your child will be accepted\, loved\, and have fun connecting over music and movement. \n\n\n\nEach session costs $4\, lasts for about 30 minutes\, and is followed by a shared morning tea.
URL:https://www.villagebaptist.org.nz/event/mainly-music-term-one/2026-03-27/
LOCATION:Village Baptist Church\, 147 Te Aute Road\, Havelock North\, Hawke's Bay\, 4130\, New Zealand
CATEGORIES:Community Event,Connect Group,Kids Program
ATTACH;FMTTYPE=image/png:https://www.villagebaptist.org.nz/wp-content/uploads/2025/01/Mainliy-Music-Image-16-9-01.png
END:VEVENT
END:VCALENDAR