BEGIN:VCALENDAR
VERSION:2.0
PRODID:-//Village Baptist Church - ECPv6.15.20//NONSGML v1.0//EN
CALSCALE:GREGORIAN
METHOD:PUBLISH
X-ORIGINAL-URL:https://www.villagebaptist.org.nz
X-WR-CALDESC:Events for Village Baptist Church
REFRESH-INTERVAL;VALUE=DURATION:PT1H
X-Robots-Tag:noindex
X-PUBLISHED-TTL:PT1H
BEGIN:VTIMEZONE
TZID:Pacific/Auckland
BEGIN:STANDARD
TZOFFSETFROM:+1300
TZOFFSETTO:+1200
TZNAME:NZST
DTSTART:20250405T140000
END:STANDARD
BEGIN:DAYLIGHT
TZOFFSETFROM:+1200
TZOFFSETTO:+1300
TZNAME:NZDT
DTSTART:20250927T140000
END:DAYLIGHT
BEGIN:STANDARD
TZOFFSETFROM:+1300
TZOFFSETTO:+1200
TZNAME:NZST
DTSTART:20260404T140000
END:STANDARD
BEGIN:DAYLIGHT
TZOFFSETFROM:+1200
TZOFFSETTO:+1300
TZNAME:NZDT
DTSTART:20260926T140000
END:DAYLIGHT
BEGIN:STANDARD
TZOFFSETFROM:+1300
TZOFFSETTO:+1200
TZNAME:NZST
DTSTART:20270403T140000
END:STANDARD
BEGIN:DAYLIGHT
TZOFFSETFROM:+1200
TZOFFSETTO:+1300
TZNAME:NZDT
DTSTART:20270925T140000
END:DAYLIGHT
END:VTIMEZONE
BEGIN:VEVENT
DTSTART;TZID=Pacific/Auckland:20261004T100000
DTEND;TZID=Pacific/Auckland:20261004T113000
DTSTAMP:20260425T145933
CREATED:20260121T031237Z
LAST-MODIFIED:20260121T031242Z
UID:10001302-1791108000-1791113400@www.villagebaptist.org.nz
SUMMARY:FIRED UP
DESCRIPTION:5 week series from 1 Kings on Elijah \n\n\n\nFire up the ovens! We’re headed to the kitchen to bake up something special. Kitchens are incredible places where the most basic ingredients are transformed into delicious treats. Our faith can be a lot like that\, too. In this 5-week series\, kids will follow the life of the prophet Elijah\, whose ministry involved a lot of fire and bread as he formed a special relationship with God. They’ll learn how knowing God helps me find what I need\, hears my voice\, guides me when I’m scared\, comforts me\, and is always with me are all the ingredients they need to get fired up! \n\n\n\nWEEK 1This week\, kids hear how God provided for Elijah and a widow during a drought.BIG IDEA: God helps me find what I need.BIBLE: 1 Kings 17:2–16; Psalm 97:1–6 \n\n\n\nWEEK 2This week\, kids hear how Elijah challenged the prophets of Baal and proved God is the real god.BIG IDEA: God hears my voice.BIBLE: 1 Kings 18:16–39; Acts 2:1–21 \n\n\n\nWEEK 3This week\, kids hear how Elijah ran away from Queen Jezebel and how God kept Elijah safe.BIG IDEA: God guides me when I’m scared.BIBLE: 1 Kings 19:1–9a; Psalm 85:8–13 \n\n\n\nWEEK 4This week\, kids hear how God appeared to Elijah to comfort him.BIG IDEA: God comforts me.BIBLE: 1 Kings 19:9b–18; 2 Corinthians 1:3–7 \n\n\n\nWEEK 5This week\, kids hear how God took Elijah up to heaven and how Elisha became God’s messenger.BIG IDEA: God is always with me.BIBLE: 2 Kings 2:1–14; John 6:25–35
URL:https://www.villagebaptist.org.nz/event/fired-up/2026-10-04/
LOCATION:Village Baptist Church\, 147 Te Aute Road\, Havelock North\, Hawke's Bay\, 4130\, New Zealand
CATEGORIES:Kids Program
ATTACH;FMTTYPE=image/png:https://www.villagebaptist.org.nz/wp-content/uploads/2026/01/Fired-Up-image.png
END:VEVENT
BEGIN:VEVENT
DTSTART;TZID=Pacific/Auckland:20261004T100000
DTEND;TZID=Pacific/Auckland:20261004T113000
DTSTAMP:20260425T145933
CREATED:20260122T023347Z
LAST-MODIFIED:20260122T023352Z
UID:10001329-1791108000-1791113400@www.villagebaptist.org.nz
SUMMARY:David: Anointed and Flawed
DESCRIPTION:In the Old Testament\, David is a significant figure who was used by God in significant ways. Yet he was far from perfect\, and the bible doesn’t hide his flaws. In this series\, we’ll explore how the good and the bad in David’s story speaks to us\, and out journey of faith.
URL:https://www.villagebaptist.org.nz/event/david-anointed-and-flawed/2026-10-04/
LOCATION:Village Baptist Church\, 147 Te Aute Road\, Havelock North\, Hawke's Bay\, 4130\, New Zealand
CATEGORIES:Church Service
ATTACH;FMTTYPE=image/png:https://www.villagebaptist.org.nz/wp-content/uploads/2026/01/David-Series-Image-169-1.png
END:VEVENT
BEGIN:VEVENT
DTSTART;TZID=Pacific/Auckland:20261011T100000
DTEND;TZID=Pacific/Auckland:20261011T113000
DTSTAMP:20260425T145933
CREATED:20260121T031237Z
LAST-MODIFIED:20260121T031242Z
UID:10001303-1791712800-1791718200@www.villagebaptist.org.nz
SUMMARY:FIRED UP
DESCRIPTION:5 week series from 1 Kings on Elijah \n\n\n\nFire up the ovens! We’re headed to the kitchen to bake up something special. Kitchens are incredible places where the most basic ingredients are transformed into delicious treats. Our faith can be a lot like that\, too. In this 5-week series\, kids will follow the life of the prophet Elijah\, whose ministry involved a lot of fire and bread as he formed a special relationship with God. They’ll learn how knowing God helps me find what I need\, hears my voice\, guides me when I’m scared\, comforts me\, and is always with me are all the ingredients they need to get fired up! \n\n\n\nWEEK 1This week\, kids hear how God provided for Elijah and a widow during a drought.BIG IDEA: God helps me find what I need.BIBLE: 1 Kings 17:2–16; Psalm 97:1–6 \n\n\n\nWEEK 2This week\, kids hear how Elijah challenged the prophets of Baal and proved God is the real god.BIG IDEA: God hears my voice.BIBLE: 1 Kings 18:16–39; Acts 2:1–21 \n\n\n\nWEEK 3This week\, kids hear how Elijah ran away from Queen Jezebel and how God kept Elijah safe.BIG IDEA: God guides me when I’m scared.BIBLE: 1 Kings 19:1–9a; Psalm 85:8–13 \n\n\n\nWEEK 4This week\, kids hear how God appeared to Elijah to comfort him.BIG IDEA: God comforts me.BIBLE: 1 Kings 19:9b–18; 2 Corinthians 1:3–7 \n\n\n\nWEEK 5This week\, kids hear how God took Elijah up to heaven and how Elisha became God’s messenger.BIG IDEA: God is always with me.BIBLE: 2 Kings 2:1–14; John 6:25–35
URL:https://www.villagebaptist.org.nz/event/fired-up/2026-10-11/
LOCATION:Village Baptist Church\, 147 Te Aute Road\, Havelock North\, Hawke's Bay\, 4130\, New Zealand
CATEGORIES:Kids Program
ATTACH;FMTTYPE=image/png:https://www.villagebaptist.org.nz/wp-content/uploads/2026/01/Fired-Up-image.png
END:VEVENT
BEGIN:VEVENT
DTSTART;TZID=Pacific/Auckland:20261011T100000
DTEND;TZID=Pacific/Auckland:20261011T113000
DTSTAMP:20260425T145933
CREATED:20260122T023347Z
LAST-MODIFIED:20260122T023352Z
UID:10001330-1791712800-1791718200@www.villagebaptist.org.nz
SUMMARY:David: Anointed and Flawed
DESCRIPTION:In the Old Testament\, David is a significant figure who was used by God in significant ways. Yet he was far from perfect\, and the bible doesn’t hide his flaws. In this series\, we’ll explore how the good and the bad in David’s story speaks to us\, and out journey of faith.
URL:https://www.villagebaptist.org.nz/event/david-anointed-and-flawed/2026-10-11/
LOCATION:Village Baptist Church\, 147 Te Aute Road\, Havelock North\, Hawke's Bay\, 4130\, New Zealand
CATEGORIES:Church Service
ATTACH;FMTTYPE=image/png:https://www.villagebaptist.org.nz/wp-content/uploads/2026/01/David-Series-Image-169-1.png
END:VEVENT
BEGIN:VEVENT
DTSTART;TZID=Pacific/Auckland:20261014T093000
DTEND;TZID=Pacific/Auckland:20261014T113000
DTSTAMP:20260425T145933
CREATED:20260122T025053Z
LAST-MODIFIED:20260122T205119Z
UID:10001383-1791970200-1791977400@www.villagebaptist.org.nz
SUMMARY:The Craft Room - Term Four
DESCRIPTION:The Craft Room is a connect group that meets in the church cafe. It’s open to all and provides a space where you can meet others while connecting over craft\, a morning tea\, and a simple devotional.
URL:https://www.villagebaptist.org.nz/event/the-craft-room-term-4/2026-10-14/
LOCATION:Village Baptist Church\, 147 Te Aute Road\, Havelock North\, Hawke's Bay\, 4130\, New Zealand
CATEGORIES:Connect Group
ATTACH;FMTTYPE=image/png:https://www.villagebaptist.org.nz/wp-content/uploads/2025/01/TheCraftRoom-16-9-01.png
END:VEVENT
BEGIN:VEVENT
DTSTART;TZID=Pacific/Auckland:20261018T100000
DTEND;TZID=Pacific/Auckland:20261018T113000
DTSTAMP:20260425T145933
CREATED:20260121T031237Z
LAST-MODIFIED:20260121T031242Z
UID:10001304-1792317600-1792323000@www.villagebaptist.org.nz
SUMMARY:FIRED UP
DESCRIPTION:5 week series from 1 Kings on Elijah \n\n\n\nFire up the ovens! We’re headed to the kitchen to bake up something special. Kitchens are incredible places where the most basic ingredients are transformed into delicious treats. Our faith can be a lot like that\, too. In this 5-week series\, kids will follow the life of the prophet Elijah\, whose ministry involved a lot of fire and bread as he formed a special relationship with God. They’ll learn how knowing God helps me find what I need\, hears my voice\, guides me when I’m scared\, comforts me\, and is always with me are all the ingredients they need to get fired up! \n\n\n\nWEEK 1This week\, kids hear how God provided for Elijah and a widow during a drought.BIG IDEA: God helps me find what I need.BIBLE: 1 Kings 17:2–16; Psalm 97:1–6 \n\n\n\nWEEK 2This week\, kids hear how Elijah challenged the prophets of Baal and proved God is the real god.BIG IDEA: God hears my voice.BIBLE: 1 Kings 18:16–39; Acts 2:1–21 \n\n\n\nWEEK 3This week\, kids hear how Elijah ran away from Queen Jezebel and how God kept Elijah safe.BIG IDEA: God guides me when I’m scared.BIBLE: 1 Kings 19:1–9a; Psalm 85:8–13 \n\n\n\nWEEK 4This week\, kids hear how God appeared to Elijah to comfort him.BIG IDEA: God comforts me.BIBLE: 1 Kings 19:9b–18; 2 Corinthians 1:3–7 \n\n\n\nWEEK 5This week\, kids hear how God took Elijah up to heaven and how Elisha became God’s messenger.BIG IDEA: God is always with me.BIBLE: 2 Kings 2:1–14; John 6:25–35
URL:https://www.villagebaptist.org.nz/event/fired-up/2026-10-18/
LOCATION:Village Baptist Church\, 147 Te Aute Road\, Havelock North\, Hawke's Bay\, 4130\, New Zealand
CATEGORIES:Kids Program
ATTACH;FMTTYPE=image/png:https://www.villagebaptist.org.nz/wp-content/uploads/2026/01/Fired-Up-image.png
END:VEVENT
BEGIN:VEVENT
DTSTART;TZID=Pacific/Auckland:20261021T093000
DTEND;TZID=Pacific/Auckland:20261021T113000
DTSTAMP:20260425T145933
CREATED:20260122T025053Z
LAST-MODIFIED:20260122T205119Z
UID:10001384-1792575000-1792582200@www.villagebaptist.org.nz
SUMMARY:The Craft Room - Term Four
DESCRIPTION:The Craft Room is a connect group that meets in the church cafe. It’s open to all and provides a space where you can meet others while connecting over craft\, a morning tea\, and a simple devotional.
URL:https://www.villagebaptist.org.nz/event/the-craft-room-term-4/2026-10-21/
LOCATION:Village Baptist Church\, 147 Te Aute Road\, Havelock North\, Hawke's Bay\, 4130\, New Zealand
CATEGORIES:Connect Group
ATTACH;FMTTYPE=image/png:https://www.villagebaptist.org.nz/wp-content/uploads/2025/01/TheCraftRoom-16-9-01.png
END:VEVENT
BEGIN:VEVENT
DTSTART;TZID=Pacific/Auckland:20261028T093000
DTEND;TZID=Pacific/Auckland:20261028T113000
DTSTAMP:20260425T145933
CREATED:20260122T025053Z
LAST-MODIFIED:20260122T205119Z
UID:10001385-1793179800-1793187000@www.villagebaptist.org.nz
SUMMARY:The Craft Room - Term Four
DESCRIPTION:The Craft Room is a connect group that meets in the church cafe. It’s open to all and provides a space where you can meet others while connecting over craft\, a morning tea\, and a simple devotional.
URL:https://www.villagebaptist.org.nz/event/the-craft-room-term-4/2026-10-28/
LOCATION:Village Baptist Church\, 147 Te Aute Road\, Havelock North\, Hawke's Bay\, 4130\, New Zealand
CATEGORIES:Connect Group
ATTACH;FMTTYPE=image/png:https://www.villagebaptist.org.nz/wp-content/uploads/2025/01/TheCraftRoom-16-9-01.png
END:VEVENT
BEGIN:VEVENT
DTSTART;TZID=Pacific/Auckland:20261031T163000
DTEND;TZID=Pacific/Auckland:20261031T193000
DTSTAMP:20260425T145933
CREATED:20260122T225034Z
LAST-MODIFIED:20260122T225038Z
UID:10001415-1793464200-1793475000@www.villagebaptist.org.nz
SUMMARY:Light Party 2026
DESCRIPTION:The Light Party is a positive\, family-friendly alternative to Halloween for kindergarten to intermediate age groups. \n\n\n\nKeep an eye on this page as further info about this event is released.
URL:https://www.villagebaptist.org.nz/event/light-party-2026/
LOCATION:Village Baptist Church\, 147 Te Aute Road\, Havelock North\, Hawke's Bay\, 4130\, New Zealand
CATEGORIES:Church Event,Community Event
ATTACH;FMTTYPE=image/png:https://www.villagebaptist.org.nz/wp-content/uploads/2025/10/Copy-of-Light-Party-169.png
END:VEVENT
END:VCALENDAR