BEGIN:VCALENDAR
VERSION:2.0
PRODID:-//Village Baptist Church - ECPv6.15.20//NONSGML v1.0//EN
CALSCALE:GREGORIAN
METHOD:PUBLISH
X-WR-CALNAME:Village Baptist Church
X-ORIGINAL-URL:https://www.villagebaptist.org.nz
X-WR-CALDESC:Events for Village Baptist Church
REFRESH-INTERVAL;VALUE=DURATION:PT1H
X-Robots-Tag:noindex
X-PUBLISHED-TTL:PT1H
BEGIN:VTIMEZONE
TZID:Pacific/Auckland
BEGIN:STANDARD
TZOFFSETFROM:+1300
TZOFFSETTO:+1200
TZNAME:NZST
DTSTART:20250405T140000
END:STANDARD
BEGIN:DAYLIGHT
TZOFFSETFROM:+1200
TZOFFSETTO:+1300
TZNAME:NZDT
DTSTART:20250927T140000
END:DAYLIGHT
BEGIN:STANDARD
TZOFFSETFROM:+1300
TZOFFSETTO:+1200
TZNAME:NZST
DTSTART:20260404T140000
END:STANDARD
BEGIN:DAYLIGHT
TZOFFSETFROM:+1200
TZOFFSETTO:+1300
TZNAME:NZDT
DTSTART:20260926T140000
END:DAYLIGHT
BEGIN:STANDARD
TZOFFSETFROM:+1300
TZOFFSETTO:+1200
TZNAME:NZST
DTSTART:20270403T140000
END:STANDARD
BEGIN:DAYLIGHT
TZOFFSETFROM:+1200
TZOFFSETTO:+1300
TZNAME:NZDT
DTSTART:20270925T140000
END:DAYLIGHT
END:VTIMEZONE
BEGIN:VEVENT
DTSTART;TZID=Pacific/Auckland:20260701T093000
DTEND;TZID=Pacific/Auckland:20260701T113000
DTSTAMP:20260425T095206
CREATED:20260122T024533Z
LAST-MODIFIED:20260122T205111Z
UID:10001351-1782898200-1782905400@www.villagebaptist.org.nz
SUMMARY:The Craft Room - Term Two
DESCRIPTION:The Craft Room is a connect group that meets in the church cafe. It’s open to all and provides a space where you can meet others while connecting over craft\, a morning tea\, and a simple devotional.
URL:https://www.villagebaptist.org.nz/event/the-craft-room-term-2/2026-07-01/
LOCATION:Village Baptist Church\, 147 Te Aute Road\, Havelock North\, Hawke's Bay\, 4130\, New Zealand
CATEGORIES:Connect Group
ATTACH;FMTTYPE=image/png:https://www.villagebaptist.org.nz/wp-content/uploads/2025/01/TheCraftRoom-16-9-01.png
END:VEVENT
BEGIN:VEVENT
DTSTART;TZID=Pacific/Auckland:20260702T093000
DTEND;TZID=Pacific/Auckland:20260702T110000
DTSTAMP:20260425T095206
CREATED:20260317T003114Z
LAST-MODIFIED:20260317T003318Z
UID:10001475-1782984600-1782990000@www.villagebaptist.org.nz
SUMMARY:Alpha | Morning
DESCRIPTION:The Alpha course is a series of sessions exploring the Christian Faith. Each talk looks at a different question around faith and is designed to foster conversation. Alpha is run all around the globe\, and everyone is welcome. No two alphas look the same\, but they all have three things in common: a free morning tea\, a quality talk\, and plenty of good conversations. \n\n\n\nUnplug. Connect. Try Alpha. \n\n\n\nWhile ‘Alpha | Morning’ is FREE\, we do ask that you RSVP to the church office. You can email your registration to: office@villagebaptist.org.nz
URL:https://www.villagebaptist.org.nz/event/alpha-morning/2026-07-02/
LOCATION:Village Baptist Church\, 147 Te Aute Road\, Havelock North\, Hawke's Bay\, 4130\, New Zealand
CATEGORIES:Course
ATTACH;FMTTYPE=image/png:https://www.villagebaptist.org.nz/wp-content/uploads/2025/04/Alpha-Pull-Up-Banner-Presentation-1.png
END:VEVENT
BEGIN:VEVENT
DTSTART;TZID=Pacific/Auckland:20260702T183000
DTEND;TZID=Pacific/Auckland:20260702T213000
DTSTAMP:20260425T095206
CREATED:20251124T224502Z
LAST-MODIFIED:20251124T224619Z
UID:10001254-1783017000-1783027800@www.villagebaptist.org.nz
SUMMARY:Alpha | Evening
DESCRIPTION:The Alpha course is a series of sessions exploring the Christian Faith. Each talk looks at a different question around faith and is designed to foster conversation. Alpha is run all around the globe\, and everyone is welcome. No two alphas look the same\, but they all have three things in common: a free dinner\, a quality talk\, and plenty of good conversations. \n\n\n\nUnplug. Connect. Try Alpha. \n\n\n\nWhile ‘Alpha | Evening’ is FREE\, it is also a catered event\, so we do ask that you RSVP to the church office. You can email your registration to: office@villagebaptist.org.nz
URL:https://www.villagebaptist.org.nz/event/alpha-evening/2026-07-02/
LOCATION:Village Baptist Church\, 147 Te Aute Road\, Havelock North\, Hawke's Bay\, 4130\, New Zealand
CATEGORIES:Course
ATTACH;FMTTYPE=image/png:https://www.villagebaptist.org.nz/wp-content/uploads/2025/04/Alpha-Pull-Up-Banner-Presentation-1.png
END:VEVENT
BEGIN:VEVENT
DTSTART;TZID=Pacific/Auckland:20260705T100000
DTEND;TZID=Pacific/Auckland:20260705T113000
DTSTAMP:20260425T095206
CREATED:20260121T030143Z
LAST-MODIFIED:20260121T030202Z
UID:10001292-1783245600-1783251000@www.villagebaptist.org.nz
SUMMARY:IMAGINE THAT
DESCRIPTION:4 week series from 2 Kings on Elisha \n\n\n\nIn an art class\, you’ll discover everything you need to know about using your imagination to create brilliant pieces of art. Sometimes\, the things you create can help solve a need or show the world something amazing about who God is. In this 4-week series\, kids will hear about some of the amazing things God did through Elisha to help people imagine how their gifts could make a difference. They’ll see how God asks us to help each other\, God can do incredible things\, and how God helps us solve big problems. By the end\, we’ll start to see the wonderful things we can do when we know God gives us more than we can imagine. \n\n\n\nWEEK 1This week\, kids see how Elisha helped a widow get out of debt.BIG IDEA: God asks us to help each other.BIBLE: 2 Kings 4:1–7; Galatians 6:1–10 \n\n\n\nWEEK 2This week\, kids see how Elisha prayed for God to bring the Shunammite’s son back to life.BIG IDEA: God can do impossible things.BIBLE: 2 Kings 4:8–37; Colossians 1:3–14 \n\n\n\nWEEK 3This week\, kids see how Elisha took care of others during a famine.BIG IDEA: God helps us solve big problems.BIBLE: 2 Kings 4:38–44; Psalm 52:8–9 \n\n\n\nWEEK 4This week\, kids see how Naaman received Elisha’s help to be healed of leprosy.BIG IDEA: God gives us more than we can imagine.BIBLE: 2 Kings 5:1–14; Luke 11:1-13
URL:https://www.villagebaptist.org.nz/event/imagine-that/2026-07-05/
LOCATION:Village Baptist Church\, 147 Te Aute Road\, Havelock North\, Hawke's Bay\, 4130\, New Zealand
CATEGORIES:Kids Program
ATTACH;FMTTYPE=image/png:https://www.villagebaptist.org.nz/wp-content/uploads/2026/01/Imagine-That-image.png
END:VEVENT
BEGIN:VEVENT
DTSTART;TZID=Pacific/Auckland:20260705T100000
DTEND;TZID=Pacific/Auckland:20260705T113000
DTSTAMP:20260425T095206
CREATED:20260122T014055Z
LAST-MODIFIED:20260122T014100Z
UID:10001320-1783245600-1783251000@www.villagebaptist.org.nz
SUMMARY:Jesus and Relationships
DESCRIPTION:At the core of God lies a relationship between three persons – Father\, Son\, and Spirit – and being made in His image means that relationships are an important part of being human too. But how can we ensure that we foster the relationships we need to flourish\, and help others to do the same? This is precisely what we will be exploring in this series: Jesus and Relationships.
URL:https://www.villagebaptist.org.nz/event/jesus-and-relationships/2026-07-05/
LOCATION:Village Baptist Church\, 147 Te Aute Road\, Havelock North\, Hawke's Bay\, 4130\, New Zealand
CATEGORIES:Church Service
ATTACH;FMTTYPE=image/png:https://www.villagebaptist.org.nz/wp-content/uploads/2026/01/Relatoinship-Principles.png
END:VEVENT
BEGIN:VEVENT
DTSTART;TZID=Pacific/Auckland:20260712T100000
DTEND;TZID=Pacific/Auckland:20260712T113000
DTSTAMP:20260425T095207
CREATED:20260121T030143Z
LAST-MODIFIED:20260121T030202Z
UID:10001293-1783850400-1783855800@www.villagebaptist.org.nz
SUMMARY:IMAGINE THAT
DESCRIPTION:4 week series from 2 Kings on Elisha \n\n\n\nIn an art class\, you’ll discover everything you need to know about using your imagination to create brilliant pieces of art. Sometimes\, the things you create can help solve a need or show the world something amazing about who God is. In this 4-week series\, kids will hear about some of the amazing things God did through Elisha to help people imagine how their gifts could make a difference. They’ll see how God asks us to help each other\, God can do incredible things\, and how God helps us solve big problems. By the end\, we’ll start to see the wonderful things we can do when we know God gives us more than we can imagine. \n\n\n\nWEEK 1This week\, kids see how Elisha helped a widow get out of debt.BIG IDEA: God asks us to help each other.BIBLE: 2 Kings 4:1–7; Galatians 6:1–10 \n\n\n\nWEEK 2This week\, kids see how Elisha prayed for God to bring the Shunammite’s son back to life.BIG IDEA: God can do impossible things.BIBLE: 2 Kings 4:8–37; Colossians 1:3–14 \n\n\n\nWEEK 3This week\, kids see how Elisha took care of others during a famine.BIG IDEA: God helps us solve big problems.BIBLE: 2 Kings 4:38–44; Psalm 52:8–9 \n\n\n\nWEEK 4This week\, kids see how Naaman received Elisha’s help to be healed of leprosy.BIG IDEA: God gives us more than we can imagine.BIBLE: 2 Kings 5:1–14; Luke 11:1-13
URL:https://www.villagebaptist.org.nz/event/imagine-that/2026-07-12/
LOCATION:Village Baptist Church\, 147 Te Aute Road\, Havelock North\, Hawke's Bay\, 4130\, New Zealand
CATEGORIES:Kids Program
ATTACH;FMTTYPE=image/png:https://www.villagebaptist.org.nz/wp-content/uploads/2026/01/Imagine-That-image.png
END:VEVENT
BEGIN:VEVENT
DTSTART;TZID=Pacific/Auckland:20260712T100000
DTEND;TZID=Pacific/Auckland:20260712T113000
DTSTAMP:20260425T095207
CREATED:20260122T014055Z
LAST-MODIFIED:20260122T014100Z
UID:10001321-1783850400-1783855800@www.villagebaptist.org.nz
SUMMARY:Jesus and Relationships
DESCRIPTION:At the core of God lies a relationship between three persons – Father\, Son\, and Spirit – and being made in His image means that relationships are an important part of being human too. But how can we ensure that we foster the relationships we need to flourish\, and help others to do the same? This is precisely what we will be exploring in this series: Jesus and Relationships.
URL:https://www.villagebaptist.org.nz/event/jesus-and-relationships/2026-07-12/
LOCATION:Village Baptist Church\, 147 Te Aute Road\, Havelock North\, Hawke's Bay\, 4130\, New Zealand
CATEGORIES:Church Service
ATTACH;FMTTYPE=image/png:https://www.villagebaptist.org.nz/wp-content/uploads/2026/01/Relatoinship-Principles.png
END:VEVENT
BEGIN:VEVENT
DTSTART;TZID=Pacific/Auckland:20260719T100000
DTEND;TZID=Pacific/Auckland:20260719T113000
DTSTAMP:20260425T095207
CREATED:20260121T030143Z
LAST-MODIFIED:20260121T030202Z
UID:10001294-1784455200-1784460600@www.villagebaptist.org.nz
SUMMARY:IMAGINE THAT
DESCRIPTION:4 week series from 2 Kings on Elisha \n\n\n\nIn an art class\, you’ll discover everything you need to know about using your imagination to create brilliant pieces of art. Sometimes\, the things you create can help solve a need or show the world something amazing about who God is. In this 4-week series\, kids will hear about some of the amazing things God did through Elisha to help people imagine how their gifts could make a difference. They’ll see how God asks us to help each other\, God can do incredible things\, and how God helps us solve big problems. By the end\, we’ll start to see the wonderful things we can do when we know God gives us more than we can imagine. \n\n\n\nWEEK 1This week\, kids see how Elisha helped a widow get out of debt.BIG IDEA: God asks us to help each other.BIBLE: 2 Kings 4:1–7; Galatians 6:1–10 \n\n\n\nWEEK 2This week\, kids see how Elisha prayed for God to bring the Shunammite’s son back to life.BIG IDEA: God can do impossible things.BIBLE: 2 Kings 4:8–37; Colossians 1:3–14 \n\n\n\nWEEK 3This week\, kids see how Elisha took care of others during a famine.BIG IDEA: God helps us solve big problems.BIBLE: 2 Kings 4:38–44; Psalm 52:8–9 \n\n\n\nWEEK 4This week\, kids see how Naaman received Elisha’s help to be healed of leprosy.BIG IDEA: God gives us more than we can imagine.BIBLE: 2 Kings 5:1–14; Luke 11:1-13
URL:https://www.villagebaptist.org.nz/event/imagine-that/2026-07-19/
LOCATION:Village Baptist Church\, 147 Te Aute Road\, Havelock North\, Hawke's Bay\, 4130\, New Zealand
CATEGORIES:Kids Program
ATTACH;FMTTYPE=image/png:https://www.villagebaptist.org.nz/wp-content/uploads/2026/01/Imagine-That-image.png
END:VEVENT
BEGIN:VEVENT
DTSTART;TZID=Pacific/Auckland:20260719T100000
DTEND;TZID=Pacific/Auckland:20260719T113000
DTSTAMP:20260425T095207
CREATED:20260122T014055Z
LAST-MODIFIED:20260122T014100Z
UID:10001322-1784455200-1784460600@www.villagebaptist.org.nz
SUMMARY:Jesus and Relationships
DESCRIPTION:At the core of God lies a relationship between three persons – Father\, Son\, and Spirit – and being made in His image means that relationships are an important part of being human too. But how can we ensure that we foster the relationships we need to flourish\, and help others to do the same? This is precisely what we will be exploring in this series: Jesus and Relationships.
URL:https://www.villagebaptist.org.nz/event/jesus-and-relationships/2026-07-19/
LOCATION:Village Baptist Church\, 147 Te Aute Road\, Havelock North\, Hawke's Bay\, 4130\, New Zealand
CATEGORIES:Church Service
ATTACH;FMTTYPE=image/png:https://www.villagebaptist.org.nz/wp-content/uploads/2026/01/Relatoinship-Principles.png
END:VEVENT
BEGIN:VEVENT
DTSTART;TZID=Pacific/Auckland:20260722T093000
DTEND;TZID=Pacific/Auckland:20260722T113000
DTSTAMP:20260425T095207
CREATED:20260122T024913Z
LAST-MODIFIED:20260122T205112Z
UID:10001363-1784712600-1784719800@www.villagebaptist.org.nz
SUMMARY:The Craft Room - Term Three
DESCRIPTION:The Craft Room is a connect group that meets in the church cafe. It’s open to all and provides a space where you can meet others while connecting over craft\, a morning tea\, and a simple devotional.
URL:https://www.villagebaptist.org.nz/event/the-craft-room-term-3/2026-07-22/
LOCATION:Village Baptist Church\, 147 Te Aute Road\, Havelock North\, Hawke's Bay\, 4130\, New Zealand
CATEGORIES:Connect Group
ATTACH;FMTTYPE=image/png:https://www.villagebaptist.org.nz/wp-content/uploads/2025/01/TheCraftRoom-16-9-01.png
END:VEVENT
BEGIN:VEVENT
DTSTART;TZID=Pacific/Auckland:20260723T190000
DTEND;TZID=Pacific/Auckland:20260723T210000
DTSTAMP:20260425T095207
CREATED:20260204T201012Z
LAST-MODIFIED:20260204T201217Z
UID:10001446-1784833200-1784840400@www.villagebaptist.org.nz
SUMMARY:Together - The Parenting Journey
DESCRIPTION:Parenthood is one of life’s greatest blessings\, but there are days when it feels like nothing is working. In those moments\, remember to lean into God’s grace\, knowing He is faithful even when we stumble. In TOGETHER – The Parenting Journey\, we’ll explore key parenting topics\, blending research-based insights\, expert advice\, real-life stories\, and faith-based wisdom. My prayer is that\, along the way\, you will grow in trust and confidence as you lean on God’s guidance through both the joys and challenges of raising your child. \n\n\n\nFor more information about ‘Together – The Parenting Journey’\, click the button below. \n\n\n\n\nThe ‘Together’ Website
URL:https://www.villagebaptist.org.nz/event/together-the-parenting-journey/2026-07-23/
LOCATION:Village Baptist Church\, 147 Te Aute Road\, Havelock North\, Hawke's Bay\, 4130\, New Zealand
CATEGORIES:Course
ATTACH;FMTTYPE=image/png:https://www.villagebaptist.org.nz/wp-content/uploads/2026/02/Untitled-design-8.png
END:VEVENT
BEGIN:VEVENT
DTSTART;TZID=Pacific/Auckland:20260726T100000
DTEND;TZID=Pacific/Auckland:20260726T113000
DTSTAMP:20260425T095207
CREATED:20260121T030643Z
LAST-MODIFIED:20260121T030647Z
UID:10001295-1785060000-1785065400@www.villagebaptist.org.nz
SUMMARY:WHAT’S NEXT?
DESCRIPTION:4 week series from Acts on The Early Church \n\n\n\nPuzzles don’t come with step-by-step instructions for solving them. That’s what makes them so much fun. You have to try to figure out the next best step to take. When Jesus left Earth\, his followers had to wonder the same thing —”What’s next?” In this 4-week series about the Early Church\, kids will see how Jesus’ followers solved the puzzle of what to do next and the ways we can follow in their footsteps. As kids discover what to do next\, they’ll learn they can follow Jesus\, pray for others\, love like Jesus did\, and share the good news. \n\n\n\nWEEK 1This week\, kids learn about how Saul became a follower of Jesus.BIG IDEA: We can follow Jesus.BIBLE: Acts 9:1–20; 1 Corinthians 15:1-9 \n\n\n\nWEEK 2This week\, kids learn about how Peter prayed for a woman to come back to life.BIG IDEA: We can pray for others.BIBLE: Acts 9:36–43; James 5:13–16 \n\n\n\nWEEK 3This week\, kids learn about how God spoke to Cornelius and Peter to show that everyone is welcome to follow Jesus.BIG IDEA: We can love like Jesus does.BIBLE: Acts 10:1–8; 11:1–18; John 13:34–35 \n\n\n\nWEEK 4This week\, kids learn about how Paul shared the good news and Lydia decided to follow Jesus.BIG IDEA: We can share the good news.BIBLE: Acts 16:6–15; Matthew 28:18–20
URL:https://www.villagebaptist.org.nz/event/whats-next/2026-07-26/
LOCATION:Village Baptist Church\, 147 Te Aute Road\, Havelock North\, Hawke's Bay\, 4130\, New Zealand
CATEGORIES:Kids Program
ATTACH;FMTTYPE=image/png:https://www.villagebaptist.org.nz/wp-content/uploads/2026/01/Whats-Next-image.png
END:VEVENT
BEGIN:VEVENT
DTSTART;TZID=Pacific/Auckland:20260726T100000
DTEND;TZID=Pacific/Auckland:20260726T113000
DTSTAMP:20260425T095207
CREATED:20260122T014055Z
LAST-MODIFIED:20260122T014100Z
UID:10001323-1785060000-1785065400@www.villagebaptist.org.nz
SUMMARY:Jesus and Relationships
DESCRIPTION:At the core of God lies a relationship between three persons – Father\, Son\, and Spirit – and being made in His image means that relationships are an important part of being human too. But how can we ensure that we foster the relationships we need to flourish\, and help others to do the same? This is precisely what we will be exploring in this series: Jesus and Relationships.
URL:https://www.villagebaptist.org.nz/event/jesus-and-relationships/2026-07-26/
LOCATION:Village Baptist Church\, 147 Te Aute Road\, Havelock North\, Hawke's Bay\, 4130\, New Zealand
CATEGORIES:Church Service
ATTACH;FMTTYPE=image/png:https://www.villagebaptist.org.nz/wp-content/uploads/2026/01/Relatoinship-Principles.png
END:VEVENT
BEGIN:VEVENT
DTSTART;TZID=Pacific/Auckland:20260729T093000
DTEND;TZID=Pacific/Auckland:20260729T113000
DTSTAMP:20260425T095207
CREATED:20260122T024913Z
LAST-MODIFIED:20260122T205112Z
UID:10001364-1785317400-1785324600@www.villagebaptist.org.nz
SUMMARY:The Craft Room - Term Three
DESCRIPTION:The Craft Room is a connect group that meets in the church cafe. It’s open to all and provides a space where you can meet others while connecting over craft\, a morning tea\, and a simple devotional.
URL:https://www.villagebaptist.org.nz/event/the-craft-room-term-3/2026-07-29/
LOCATION:Village Baptist Church\, 147 Te Aute Road\, Havelock North\, Hawke's Bay\, 4130\, New Zealand
CATEGORIES:Connect Group
ATTACH;FMTTYPE=image/png:https://www.villagebaptist.org.nz/wp-content/uploads/2025/01/TheCraftRoom-16-9-01.png
END:VEVENT
BEGIN:VEVENT
DTSTART;TZID=Pacific/Auckland:20260730T190000
DTEND;TZID=Pacific/Auckland:20260730T210000
DTSTAMP:20260425T095207
CREATED:20260204T201012Z
LAST-MODIFIED:20260204T201217Z
UID:10001447-1785438000-1785445200@www.villagebaptist.org.nz
SUMMARY:Together - The Parenting Journey
DESCRIPTION:Parenthood is one of life’s greatest blessings\, but there are days when it feels like nothing is working. In those moments\, remember to lean into God’s grace\, knowing He is faithful even when we stumble. In TOGETHER – The Parenting Journey\, we’ll explore key parenting topics\, blending research-based insights\, expert advice\, real-life stories\, and faith-based wisdom. My prayer is that\, along the way\, you will grow in trust and confidence as you lean on God’s guidance through both the joys and challenges of raising your child. \n\n\n\nFor more information about ‘Together – The Parenting Journey’\, click the button below. \n\n\n\n\nThe ‘Together’ Website
URL:https://www.villagebaptist.org.nz/event/together-the-parenting-journey/2026-07-30/
LOCATION:Village Baptist Church\, 147 Te Aute Road\, Havelock North\, Hawke's Bay\, 4130\, New Zealand
CATEGORIES:Course
ATTACH;FMTTYPE=image/png:https://www.villagebaptist.org.nz/wp-content/uploads/2026/02/Untitled-design-8.png
END:VEVENT
END:VCALENDAR